BEGIN:VCALENDAR
VERSION:2.0
PRODID:-//hacksw/handcal//NONSGML v1.0//EN
BEGIN:VEVENT
DTSTART:20260520T180000Z
SUMMARY:Kantas. Kambarys, kuriame negalvojama |  Festivalyje „TheATRIUM“ Klaipėdoje
DESCRIPTION:<p>Trijų dalių spektaklis (N-14)</p>
LOCATION:Vilniaus mažasis teatras
END:VEVENT
END:VCALENDAR