BEGIN:VCALENDAR
VERSION:2.0
PRODID:-//hacksw/handcal//NONSGML v1.0//EN
BEGIN:VEVENT
DTSTART:20260517T170000Z
SUMMARY:Marti x VINGIŲ JONO TEISMAS | LIETUVOS NACIONALINIAME DRAMOS TEATRE
DESCRIPTION:<p>Vienos dalies spektaklis</p>
LOCATION:Vilniaus mažasis teatras
END:VEVENT
END:VCALENDAR